BEGIN:VCALENDAR
VERSION:2.0
PRODID:-//Associated - ECPv6.15.20//NONSGML v1.0//EN
CALSCALE:GREGORIAN
METHOD:PUBLISH
X-WR-CALNAME:Associated
X-ORIGINAL-URL:https://associated.org
X-WR-CALDESC:Events for Associated
REFRESH-INTERVAL;VALUE=DURATION:PT1H
X-Robots-Tag:noindex
X-PUBLISHED-TTL:PT1H
BEGIN:VTIMEZONE
TZID:America/New_York
BEGIN:DAYLIGHT
TZOFFSETFROM:-0500
TZOFFSETTO:-0400
TZNAME:EDT
DTSTART:20250309T070000
END:DAYLIGHT
BEGIN:STANDARD
TZOFFSETFROM:-0400
TZOFFSETTO:-0500
TZNAME:EST
DTSTART:20251102T060000
END:STANDARD
BEGIN:DAYLIGHT
TZOFFSETFROM:-0500
TZOFFSETTO:-0400
TZNAME:EDT
DTSTART:20260308T070000
END:DAYLIGHT
BEGIN:STANDARD
TZOFFSETFROM:-0400
TZOFFSETTO:-0500
TZNAME:EST
DTSTART:20261101T060000
END:STANDARD
BEGIN:DAYLIGHT
TZOFFSETFROM:-0500
TZOFFSETTO:-0400
TZNAME:EDT
DTSTART:20270314T070000
END:DAYLIGHT
BEGIN:STANDARD
TZOFFSETFROM:-0400
TZOFFSETTO:-0500
TZNAME:EST
DTSTART:20271107T060000
END:STANDARD
END:VTIMEZONE
BEGIN:VEVENT
DTSTART;TZID=America/New_York:20260518T110000
DTEND;TZID=America/New_York:20260518T130000
DTSTAMP:20260425T090627
CREATED:20260309T205634Z
LAST-MODIFIED:20260309T205636Z
UID:10009897-1779102000-1779109200@associated.org
SUMMARY:Towson Hillel Annual Meeting
DESCRIPTION:Towson Hillel Annual Meeting\n                        \n                    \n                                         \n                                           \n                  \n              \n\n            \n        \n\n      \n        \n\n\n\n\n\n\n\n\nA reflection on the year at Towson University Hillel.A celebration of graduating seniors.A farewell to outgoing board members and a welcome to new members \n\n\n\n\n        \n      \n       \n        \n            \n                Upcoming Events\n                \n            \n\n\n            \n\n            						   	\n			                  \n\n			                    \n                           \n			                      \n			                          \n			                      \n			                      \n			                        Mitzvahs and Mimosas: Celebrating Women and Philanthropy \n			                                                      Cost $54 In recognition of your generosity\, you are invited to join us as we celebrate the extraordinary women of the Lion of Judah and […] \n			                      \n                           \n			                    \n\n			                  \n			                \n					   					   	\n			                  \n\n			                    \n                           \n			                      \n			                          \n			                      \n			                      \n			                        YAD Volunteer Collective: Good Deeds Day\n			                                                      Join the Young Adult Division’s Volunteer Collective in partnership with the Jewish Connection Network \, for an afternoon of service at Sarah’s Hope Family Shelter . We’ll spend time […] \n			                      \n                           \n			                    \n\n			                  \n			                \n					   					   	\n			                  \n\n			                    \n                           \n			                      \n			                          \n			                      \n			                      \n			                        Your Vote Matters!\n			                                                      We are delighted to invite you to JWGF’s Final Voting Session for the 2025-2026 grant cycle. This event will determine the allocation of our collective […] \n			                      \n                           \n			                    \n\n			                  \n			                \n					   					   	\n			                  \n\n			                    \n                           \n			                      \n			                          \n			                      \n			                      \n			                        Planned Giving Round Table (PGRT)\n			                                                      Join fellow estate and financial advisors for an engaging session on working effectively with families. Lauren Klein\, Vice President of Funds & Foundations at The […]
URL:https://associated.org/event/towson-hillel-annual-meeting/
LOCATION:Towson Hillel Commons
CATEGORIES:20s and 30s,Jewish Identity
ATTACH;FMTTYPE=image/jpeg:https://associated.org/wp-content/uploads/2021/02/GettyImages-1165677324-scaled.jpg
END:VEVENT
END:VCALENDAR