BEGIN:VCALENDAR
VERSION:2.0
PRODID:-//Associated - ECPv6.15.20//NONSGML v1.0//EN
CALSCALE:GREGORIAN
METHOD:PUBLISH
X-WR-CALNAME:Associated
X-ORIGINAL-URL:https://associated.org
X-WR-CALDESC:Events for Associated
REFRESH-INTERVAL;VALUE=DURATION:PT1H
X-Robots-Tag:noindex
X-PUBLISHED-TTL:PT1H
BEGIN:VTIMEZONE
TZID:America/New_York
BEGIN:DAYLIGHT
TZOFFSETFROM:-0500
TZOFFSETTO:-0400
TZNAME:EDT
DTSTART:20250309T070000
END:DAYLIGHT
BEGIN:STANDARD
TZOFFSETFROM:-0400
TZOFFSETTO:-0500
TZNAME:EST
DTSTART:20251102T060000
END:STANDARD
BEGIN:DAYLIGHT
TZOFFSETFROM:-0500
TZOFFSETTO:-0400
TZNAME:EDT
DTSTART:20260308T070000
END:DAYLIGHT
BEGIN:STANDARD
TZOFFSETFROM:-0400
TZOFFSETTO:-0500
TZNAME:EST
DTSTART:20261101T060000
END:STANDARD
BEGIN:DAYLIGHT
TZOFFSETFROM:-0500
TZOFFSETTO:-0400
TZNAME:EDT
DTSTART:20270314T070000
END:DAYLIGHT
BEGIN:STANDARD
TZOFFSETFROM:-0400
TZOFFSETTO:-0500
TZNAME:EST
DTSTART:20271107T060000
END:STANDARD
END:VTIMEZONE
BEGIN:VEVENT
DTSTART;TZID=America/New_York:20260430T130000
DTEND;TZID=America/New_York:20260430T140000
DTSTAMP:20260422T223129
CREATED:20260210T205044Z
LAST-MODIFIED:20260210T205045Z
UID:10009702-1777554000-1777557600@associated.org
SUMMARY:Network Book Club with The Jewish Library of Baltimore
DESCRIPTION:Network Book Club with The Jewish Library of Baltimore\n                        \n                    \n                                         \n                                           \n                  \n              \n\n            \n        \n\n      \n        \n\n\n\n\n\n\n\n\n\n\nReady to turn pages and make new friends? Join our Network Book Club. In this book club you will enjoy flexible participation (no need to commit to every meeting)\, connect with fellow book lovers in the same life stage\, enjoy light snacks and beverages and engage in insightful discussions. In this session we will discuss The Trade Off by Samantha Greene Woodruff. \n\n\n\n\n        \n      \n       \n        \n            \n                Upcoming Events\n                \n            \n\n\n            \n\n            						   	\n			                  \n\n			                    \n                           \n			                      \n			                          \n			                      \n			                      \n			                        Mitzvahs and Mimosas: Celebrating Women and Philanthropy \n			                                                      Cost $54 In recognition of your generosity\, you are invited to join us as we celebrate the extraordinary women of the Lion of Judah and […] \n			                      \n                           \n			                    \n\n			                  \n			                \n					   					   	\n			                  \n\n			                    \n                           \n			                      \n			                          \n			                      \n			                      \n			                        YAD Volunteer Collective: Good Deeds Day\n			                                                      Join the Young Adult Division’s Volunteer Collective in partnership with the Jewish Connection Network \, for an afternoon of service at Sarah’s Hope Family Shelter . We’ll spend time […] \n			                      \n                           \n			                    \n\n			                  \n			                \n					   					   	\n			                  \n\n			                    \n                           \n			                      \n			                          \n			                      \n			                      \n			                        Your Vote Matters!\n			                                                      We are delighted to invite you to JWGF’s Final Voting Session for the 2025-2026 grant cycle. This event will determine the allocation of our collective […] \n			                      \n                           \n			                    \n\n			                  \n			                \n					   					   	\n			                  \n\n			                    \n                           \n			                      \n			                          \n			                      \n			                      \n			                        Planned Giving Round Table (PGRT)\n			                                                      Join fellow estate and financial advisors for an engaging session on working effectively with families. Lauren Klein\, Vice President of Funds & Foundations at The […]
URL:https://associated.org/event/network-book-club-with-the-jewish-library-of-baltimore/
LOCATION:The Jewish Library of Baltimore\, 5700 Park Heights Avenue\, Baltimore\, 21215\, United States
CATEGORIES:Jewish Identity,Arts & Culture
ATTACH;FMTTYPE=image/jpeg:https://associated.org/wp-content/uploads/2024/08/GettyImages-1389876849_banner.jpg
END:VEVENT
BEGIN:VEVENT
DTSTART;TZID=America/New_York:20260505T163000
DTEND;TZID=America/New_York:20260505T183000
DTSTAMP:20260422T223129
CREATED:20260226T134245Z
LAST-MODIFIED:20260226T134247Z
UID:10009790-1777998600-1778005800@associated.org
SUMMARY:May Mitzvah Mutts
DESCRIPTION:May Mitzvah Mutts\n                        \n                    \n                                         \n                                          \n                  \n              \n\n            \n        \n\n      \n        \n\n\n\n\n\n\n\n\n\n\nMitzvah Mutts dogs are calm\, non-judgmental listeners who can help shy or reluctant readers feel more confident. \n\n\n\n• Participants take turns reading to friendly dogs.• Please leave your own pets and stuffed animals at home.• For children ages 5 and up only (no younger siblings\, please). \n\n\n\nCome see old and new friends – both human and furry! Please pre-register. \n\n\n\n\n        \n      \n       \n        \n            \n                Upcoming Events\n                \n            \n\n\n            \n\n            						   	\n			                  \n\n			                    \n                           \n			                      \n			                          \n			                      \n			                      \n			                        Mitzvahs and Mimosas: Celebrating Women and Philanthropy \n			                                                      Cost $54 In recognition of your generosity\, you are invited to join us as we celebrate the extraordinary women of the Lion of Judah and […] \n			                      \n                           \n			                    \n\n			                  \n			                \n					   					   	\n			                  \n\n			                    \n                           \n			                      \n			                          \n			                      \n			                      \n			                        YAD Volunteer Collective: Good Deeds Day\n			                                                      Join the Young Adult Division’s Volunteer Collective in partnership with the Jewish Connection Network \, for an afternoon of service at Sarah’s Hope Family Shelter . We’ll spend time […] \n			                      \n                           \n			                    \n\n			                  \n			                \n					   					   	\n			                  \n\n			                    \n                           \n			                      \n			                          \n			                      \n			                      \n			                        Your Vote Matters!\n			                                                      We are delighted to invite you to JWGF’s Final Voting Session for the 2025-2026 grant cycle. This event will determine the allocation of our collective […] \n			                      \n                           \n			                    \n\n			                  \n			                \n					   					   	\n			                  \n\n			                    \n                           \n			                      \n			                          \n			                      \n			                      \n			                        Planned Giving Round Table (PGRT)\n			                                                      Join fellow estate and financial advisors for an engaging session on working effectively with families. Lauren Klein\, Vice President of Funds & Foundations at The […]
URL:https://associated.org/event/may-mitzvah-mutts/
LOCATION:The Jewish Library of Baltimore\, 5700 Park Heights Avenue\, Baltimore\, 21215\, United States
CATEGORIES:Families
ATTACH;FMTTYPE=image/jpeg:https://associated.org/wp-content/uploads/2023/05/Children-in-library-with-reading-assistance-dog.jpg
ORGANIZER;CN="Jewish Library of Baltimore":MAILTO:stusk@jewishlibrarybaltimore.org
END:VEVENT
BEGIN:VEVENT
DTSTART;TZID=America/New_York:20260519T190000
DTEND;TZID=America/New_York:20260519T203000
DTSTAMP:20260422T223129
CREATED:20260313T174442Z
LAST-MODIFIED:20260313T174444Z
UID:10009908-1779217200-1779222600@associated.org
SUMMARY:Celebrating Jewish Stories that Inspire: An Evening with Joan Lunden
DESCRIPTION:Celebrating Jewish Stories that Inspire: An Evening with Joan Lunden\n                        \n                    \n                                         \n                                           \n                  \n              \n\n            \n        \n\n      \n        \n\n\n\n\n\n\n\n\n\n\nJoin The Jewish Library of Baltimore for a conversation with award-winning journalist\, bestselling author\, television host and motivational speaker Joan Lunden. This special evening will illuminate the rich diversity of Jewish stories housed at JLB while celebrating our many accomplishments this year. An annual meeting designed to entertain as it educates\, the program promises reflection\, insight and inspiration. \n\n\n\nJoan’s new biography\, Joan: Life Beyond the Script\, will be available for sale and signing. The first 50 registrants will receive a free copy of the book.* \n\n\n\nJoan will be interviewed by entrepreneur Jayne Havens who has discussed such topics as “Why Community Matters” and “Family\, Faith and Flexibility” on her podcast. \n\n\n\nFor security purposes\, only those who register will be admitted into the event. \n\n\n\n*Limit one per household. Must be present at event to receive the book. \n\n\n\n\n        \n      \n       \n        \n            \n                Upcoming Events\n                \n            \n\n\n            \n\n            						   	\n			                  \n\n			                    \n                           \n			                      \n			                          \n			                      \n			                      \n			                        Mitzvahs and Mimosas: Celebrating Women and Philanthropy \n			                                                      Cost $54 In recognition of your generosity\, you are invited to join us as we celebrate the extraordinary women of the Lion of Judah and […] \n			                      \n                           \n			                    \n\n			                  \n			                \n					   					   	\n			                  \n\n			                    \n                           \n			                      \n			                          \n			                      \n			                      \n			                        YAD Volunteer Collective: Good Deeds Day\n			                                                      Join the Young Adult Division’s Volunteer Collective in partnership with the Jewish Connection Network \, for an afternoon of service at Sarah’s Hope Family Shelter . We’ll spend time […] \n			                      \n                           \n			                    \n\n			                  \n			                \n					   					   	\n			                  \n\n			                    \n                           \n			                      \n			                          \n			                      \n			                      \n			                        Your Vote Matters!\n			                                                      We are delighted to invite you to JWGF’s Final Voting Session for the 2025-2026 grant cycle. This event will determine the allocation of our collective […] \n			                      \n                           \n			                    \n\n			                  \n			                \n					   					   	\n			                  \n\n			                    \n                           \n			                      \n			                          \n			                      \n			                      \n			                        Planned Giving Round Table (PGRT)\n			                                                      Join fellow estate and financial advisors for an engaging session on working effectively with families. Lauren Klein\, Vice President of Funds & Foundations at The […]
URL:https://associated.org/event/celebrating-jewish-stories-that-inspire-an-evening-with-joan-lunden/
LOCATION:The Jewish Library of Baltimore\, 5700 Park Heights Avenue\, Baltimore\, 21215\, United States
CATEGORIES:Jewish Identity,Arts & Culture
ATTACH;FMTTYPE=image/webp:https://associated.org/wp-content/uploads/2026/03/Woman-reaching-for-book-at-library.webp
ORGANIZER;CN="Jewish Library of Baltimore":MAILTO:stusk@jewishlibrarybaltimore.org
END:VEVENT
BEGIN:VEVENT
DTSTART;TZID=America/New_York:20260602T163000
DTEND;TZID=America/New_York:20260602T183000
DTSTAMP:20260422T223129
CREATED:20260319T181453Z
LAST-MODIFIED:20260319T181455Z
UID:10009916-1780417800-1780425000@associated.org
SUMMARY:June Mitzvah Mutts
DESCRIPTION:June Mitzvah Mutts\n                        \n                    \n                                         \n                                           \n                  \n              \n\n            \n        \n\n      \n        \n\n\n\n\n\n\n\n\n\n\nMitzvah Mutts dogs are calm\, non-judgmental listeners who can help shy or reluctant readers feel more confident.  \n\n\n\n• Participants take turns reading to friendly dogs. • Please leave your own pets and stuffed animals at home. • For children ages 5 and up only (no younger siblings\, please).  \n\n\n\nCome see old and new friends – both human and furry! Please pre-register. \n\n\n\n\n        \n      \n       \n        \n            \n                Upcoming Events\n                \n            \n\n\n            \n\n            						   	\n			                  \n\n			                    \n                           \n			                      \n			                          \n			                      \n			                      \n			                        Mitzvahs and Mimosas: Celebrating Women and Philanthropy \n			                                                      Cost $54 In recognition of your generosity\, you are invited to join us as we celebrate the extraordinary women of the Lion of Judah and […] \n			                      \n                           \n			                    \n\n			                  \n			                \n					   					   	\n			                  \n\n			                    \n                           \n			                      \n			                          \n			                      \n			                      \n			                        YAD Volunteer Collective: Good Deeds Day\n			                                                      Join the Young Adult Division’s Volunteer Collective in partnership with the Jewish Connection Network \, for an afternoon of service at Sarah’s Hope Family Shelter . We’ll spend time […] \n			                      \n                           \n			                    \n\n			                  \n			                \n					   					   	\n			                  \n\n			                    \n                           \n			                      \n			                          \n			                      \n			                      \n			                        Your Vote Matters!\n			                                                      We are delighted to invite you to JWGF’s Final Voting Session for the 2025-2026 grant cycle. This event will determine the allocation of our collective […] \n			                      \n                           \n			                    \n\n			                  \n			                \n					   					   	\n			                  \n\n			                    \n                           \n			                      \n			                          \n			                      \n			                      \n			                        Planned Giving Round Table (PGRT)\n			                                                      Join fellow estate and financial advisors for an engaging session on working effectively with families. Lauren Klein\, Vice President of Funds & Foundations at The […]
URL:https://associated.org/event/june-mitzvah-mutts/
LOCATION:The Jewish Library of Baltimore\, 5700 Park Heights Avenue\, Baltimore\, 21215\, United States
CATEGORIES:Families,Arts & Culture
ATTACH;FMTTYPE=image/webp:https://associated.org/wp-content/uploads/2026/02/Kids-reading-to-dog-for-Mitzvah-Mutts.webp
ORGANIZER;CN="Jewish Library of Baltimore":MAILTO:stusk@jewishlibrarybaltimore.org
END:VEVENT
END:VCALENDAR