BEGIN:VCALENDAR
VERSION:2.0
PRODID:-//Associated - ECPv6.15.17.1//NONSGML v1.0//EN
CALSCALE:GREGORIAN
METHOD:PUBLISH
X-WR-CALNAME:Associated
X-ORIGINAL-URL:https://associated.org
X-WR-CALDESC:Events for Associated
REFRESH-INTERVAL;VALUE=DURATION:PT1H
X-Robots-Tag:noindex
X-PUBLISHED-TTL:PT1H
BEGIN:VTIMEZONE
TZID:America/New_York
BEGIN:DAYLIGHT
TZOFFSETFROM:-0500
TZOFFSETTO:-0400
TZNAME:EDT
DTSTART:20250309T070000
END:DAYLIGHT
BEGIN:STANDARD
TZOFFSETFROM:-0400
TZOFFSETTO:-0500
TZNAME:EST
DTSTART:20251102T060000
END:STANDARD
BEGIN:DAYLIGHT
TZOFFSETFROM:-0500
TZOFFSETTO:-0400
TZNAME:EDT
DTSTART:20260308T070000
END:DAYLIGHT
BEGIN:STANDARD
TZOFFSETFROM:-0400
TZOFFSETTO:-0500
TZNAME:EST
DTSTART:20261101T060000
END:STANDARD
BEGIN:DAYLIGHT
TZOFFSETFROM:-0500
TZOFFSETTO:-0400
TZNAME:EDT
DTSTART:20270314T070000
END:DAYLIGHT
BEGIN:STANDARD
TZOFFSETFROM:-0400
TZOFFSETTO:-0500
TZNAME:EST
DTSTART:20271107T060000
END:STANDARD
END:VTIMEZONE
BEGIN:VEVENT
DTSTART;TZID=America/New_York:20260424T173000
DTEND;TZID=America/New_York:20260424T193000
DTSTAMP:20260421T122600
CREATED:20260414T200949Z
LAST-MODIFIED:20260414T200950Z
UID:10009943-1777051800-1777059000@associated.org
SUMMARY:Good Deeds Month: Family Shabbat and Service Project
DESCRIPTION:Good Deeds Month: Family Shabbat and Service Project\n                        \n                    \n                                         \n                                           \n                  \n              \n\n            \n        \n\n      \n        \n\n\n\n\n\n\n\n\n\n\nThis Good Deeds Month\, join The Network’s PJ Library team and Adamah Adventure Camp for a joyful evening of giving back and celebrating Shabbat together! \n\n\n\nFamilies are invited to come together for music\, connection\, and eco-friendly service projects as we explore what it means to care for our world and each other. Together\, we’ll roll up our sleeves and create DIY bird feeders to support local wildlife\, kindness rocks to spread joy throughout our community\, and plantied flowers to brighten shared spaces. Each activity is rooted in Jewish values and offers a tangible way for even our youngest participants to make a real impact. \n\n\n\nWe’ll weave in joyful Shabbat rituals\, songs\, and community connection\, creating a warm and welcoming space where families can do good\, feel good\, and grow together. \n\n\n\nIf you’re looking to connect more before the event\, our Towson and Lutherville-Timonium Community Connectors are hosting a pre-event pizza party at 5:15 p.m. Kosher pizza will be available upon request. Not feeling pizza? You’re welcome to bring your own dinner. \n\n\n\nSchedule:5:15 – 5:45 p.m.: Pizza party sponsored by Community Connectors5:45 – 7:15 p.m.: Family Shabbat songs and eco-crafts with Adamah Adventure Camp \n\n\n\n\n        \n      \n       \n        \n            \n                Upcoming Events\n                \n            \n\n\n            \n\n            						   	\n			                  \n\n			                    \n                           \n			                      \n			                          \n			                      \n			                      \n			                        Mitzvahs and Mimosas: Celebrating Women and Philanthropy \n			                                                      Cost $54 In recognition of your generosity\, you are invited to join us as we celebrate the extraordinary women of the Lion of Judah and […] \n			                      \n                           \n			                    \n\n			                  \n			                \n					   					   	\n			                  \n\n			                    \n                           \n			                      \n			                          \n			                      \n			                      \n			                        YAD Volunteer Collective: Good Deeds Day\n			                                                      Join the Young Adult Division’s Volunteer Collective in partnership with the Jewish Connection Network \, for an afternoon of service at Sarah’s Hope Family Shelter . We’ll spend time […] \n			                      \n                           \n			                    \n\n			                  \n			                \n					   					   	\n			                  \n\n			                    \n                           \n			                      \n			                          \n			                      \n			                      \n			                        Your Vote Matters!\n			                                                      We are delighted to invite you to JWGF’s Final Voting Session for the 2025-2026 grant cycle. This event will determine the allocation of our collective […] \n			                      \n                           \n			                    \n\n			                  \n			                \n					   					   	\n			                  \n\n			                    \n                           \n			                      \n			                          \n			                      \n			                      \n			                        Planned Giving Round Table (PGRT)\n			                                                      Join fellow estate and financial advisors for an engaging session on working effectively with families. Lauren Klein\, Vice President of Funds & Foundations at The […]
URL:https://associated.org/event/good-deeds-month-family-shabbat-and-service-project/
LOCATION:Riderwood Hills Park
CATEGORIES:Jewish Identity,Families
ATTACH;FMTTYPE=image/webp:https://associated.org/wp-content/uploads/2026/04/Pearlstone-nature-at-sunset.webp
END:VEVENT
END:VCALENDAR