BEGIN:VCALENDAR
VERSION:2.0
PRODID:-//Associated - ECPv6.15.20//NONSGML v1.0//EN
CALSCALE:GREGORIAN
METHOD:PUBLISH
X-WR-CALNAME:Associated
X-ORIGINAL-URL:https://associated.org
X-WR-CALDESC:Events for Associated
REFRESH-INTERVAL;VALUE=DURATION:PT1H
X-Robots-Tag:noindex
X-PUBLISHED-TTL:PT1H
BEGIN:VTIMEZONE
TZID:America/New_York
BEGIN:DAYLIGHT
TZOFFSETFROM:-0500
TZOFFSETTO:-0400
TZNAME:EDT
DTSTART:20250309T070000
END:DAYLIGHT
BEGIN:STANDARD
TZOFFSETFROM:-0400
TZOFFSETTO:-0500
TZNAME:EST
DTSTART:20251102T060000
END:STANDARD
BEGIN:DAYLIGHT
TZOFFSETFROM:-0500
TZOFFSETTO:-0400
TZNAME:EDT
DTSTART:20260308T070000
END:DAYLIGHT
BEGIN:STANDARD
TZOFFSETFROM:-0400
TZOFFSETTO:-0500
TZNAME:EST
DTSTART:20261101T060000
END:STANDARD
BEGIN:DAYLIGHT
TZOFFSETFROM:-0500
TZOFFSETTO:-0400
TZNAME:EDT
DTSTART:20270314T070000
END:DAYLIGHT
BEGIN:STANDARD
TZOFFSETFROM:-0400
TZOFFSETTO:-0500
TZNAME:EST
DTSTART:20271107T060000
END:STANDARD
END:VTIMEZONE
BEGIN:VEVENT
DTSTART;TZID=America/New_York:20260423T190000
DTEND;TZID=America/New_York:20260423T210000
DTSTAMP:20260423T122427
CREATED:20260331T185114Z
LAST-MODIFIED:20260331T185115Z
UID:10009929-1776970800-1776978000@associated.org
SUMMARY:Letting Go of the Me to Be with the We: An Evening with Yiscah Smith
DESCRIPTION:Letting Go of the Me to Be with the We: An Evening with Yiscah Smith\n                        \n                    \n                                         \n                                           \n                  \n              \n\n            \n        \n\n      \n        \n\n\n\n\n\n\n\n\n\n\nYiscah Smith is a thought leader\, spiritual activist and agent of change who addresses the spiritual practice of encountering the Divine spark within and beyond.  \n\n\n\nYiscah will share a portion of her book anchored in the week’s Torah portion Aharei Mot/Kedoshim. She will discuss a dilemma that the High Priest encounters when performing the special Yom Kippur service. The resolution occurs when an individual becomes part of something bigger than one’s own limited self. This becomes a spiritual practice of connection that nurtures God consciousness in ourselves and the world around us. Quite timely as we live in a world fraught with disconnection\, fear and anxiety. \n\n\n\n\n        \n      \n       \n        \n            \n                Upcoming Events\n                \n            \n\n\n            \n\n            						   	\n			                  \n\n			                    \n                           \n			                      \n			                          \n			                      \n			                      \n			                        Mitzvahs and Mimosas: Celebrating Women and Philanthropy \n			                                                      Cost $54 In recognition of your generosity\, you are invited to join us as we celebrate the extraordinary women of the Lion of Judah and […] \n			                      \n                           \n			                    \n\n			                  \n			                \n					   					   	\n			                  \n\n			                    \n                           \n			                      \n			                          \n			                      \n			                      \n			                        YAD Volunteer Collective: Good Deeds Day\n			                                                      Join the Young Adult Division’s Volunteer Collective in partnership with the Jewish Connection Network \, for an afternoon of service at Sarah’s Hope Family Shelter . We’ll spend time […] \n			                      \n                           \n			                    \n\n			                  \n			                \n					   					   	\n			                  \n\n			                    \n                           \n			                      \n			                          \n			                      \n			                      \n			                        Your Vote Matters!\n			                                                      We are delighted to invite you to JWGF’s Final Voting Session for the 2025-2026 grant cycle. This event will determine the allocation of our collective […] \n			                      \n                           \n			                    \n\n			                  \n			                \n					   					   	\n			                  \n\n			                    \n                           \n			                      \n			                          \n			                      \n			                      \n			                        Planned Giving Round Table (PGRT)\n			                                                      Join fellow estate and financial advisors for an engaging session on working effectively with families. Lauren Klein\, Vice President of Funds & Foundations at The […]
URL:https://associated.org/event/letting-go-of-the-me-to-be-with-the-we-an-evening-with-yiscah-smith/
LOCATION:Beth Am Synagogue\, 2501 Eutaw Pl\, Baltimore\, MD\, 21217
CATEGORIES:Jewish Identity,Synagogues
ATTACH;FMTTYPE=image/webp:https://associated.org/wp-content/uploads/2026/03/Jewish-star.webp
ORGANIZER;CN="Beth Am Synagogue":MAILTO:skolstad@bethambaltimore.org
END:VEVENT
BEGIN:VEVENT
DTSTART;TZID=America/New_York:20260529T180000
DTEND;TZID=America/New_York:20260529T210000
DTSTAMP:20260423T122427
CREATED:20260422T173803Z
LAST-MODIFIED:20260422T183159Z
UID:10009962-1780077600-1780088400@associated.org
SUMMARY:YAD & BAYITT Shabbat
DESCRIPTION:YAD & BAYITT Shabbat \n                        \n                    \n                                         \n                                            \n                  \n              \n\n            \n        \n\n      \n        \n\n\n\n\n\n\n\n\n\n\nJoin the Young Adult Division in partnership with BAYITT for a camp-inspired Shabbat. Join us on Friday\, May 29 for musical\, camp-style services led by Rav Tyler and Sarah Jacobs\, followed by a vegetarian potluck dinner and s’mores. \n\n\n\nLean into the camp nostalgia and wear your favorite white Shabbat outfit! \n\n\n\nServices begin at 6:00 p.m. and dinner will be at 6:30 p.m. \n\n\n\n\n\n\n\n\n\nThe Associated is committed to making our events accessible to everyone. If you need any accommodations or have questions\, please contact Jacob Rivers at  jrivers@associated.org or 410-369-9265. \n\n\n\nFor the security of all\, The Associated reserves the right to search all bags prior to entry. \n\n\n\nBy attending this event you consent to be photographed\, filmed and/or otherwise recorded and to the release\, publication\, exhibition or reproduction of any and all recorded media of your appearance\, voice and name for any purpose whatsoever in connection with The Associated: Jewish Federation of Baltimore\, its initiatives\, including\, by way of example only\, use on websites\, in social media\, news and advertising. \n\n\n\n\n\n\n        \n      \n       \n        \n            \n                Upcoming Events\n                \n            \n\n\n            \n\n            						   	\n			                  \n\n			                    \n                           \n			                      \n			                          \n			                      \n			                      \n			                        Mitzvahs and Mimosas: Celebrating Women and Philanthropy \n			                                                      Cost $54 In recognition of your generosity\, you are invited to join us as we celebrate the extraordinary women of the Lion of Judah and […] \n			                      \n                           \n			                    \n\n			                  \n			                \n					   					   	\n			                  \n\n			                    \n                           \n			                      \n			                          \n			                      \n			                      \n			                        YAD Volunteer Collective: Good Deeds Day\n			                                                      Join the Young Adult Division’s Volunteer Collective in partnership with the Jewish Connection Network \, for an afternoon of service at Sarah’s Hope Family Shelter . We’ll spend time […] \n			                      \n                           \n			                    \n\n			                  \n			                \n					   					   	\n			                  \n\n			                    \n                           \n			                      \n			                          \n			                      \n			                      \n			                        Your Vote Matters!\n			                                                      We are delighted to invite you to JWGF’s Final Voting Session for the 2025-2026 grant cycle. This event will determine the allocation of our collective […] \n			                      \n                           \n			                    \n\n			                  \n			                \n					   					   	\n			                  \n\n			                    \n                           \n			                      \n			                          \n			                      \n			                      \n			                        Planned Giving Round Table (PGRT)\n			                                                      Join fellow estate and financial advisors for an engaging session on working effectively with families. Lauren Klein\, Vice President of Funds & Foundations at The […]
URL:https://associated.org/event/yad-bayitt-shabbat/
LOCATION:Beth Am Synagogue\, 2501 Eutaw Pl\, Baltimore\, MD\, 21217
CATEGORIES:20s and 30s,Jewish Identity
ATTACH;FMTTYPE=image/webp:https://associated.org/wp-content/uploads/2026/04/Young-adults-enjoying-dinner.webp
END:VEVENT
END:VCALENDAR