BEGIN:VCALENDAR
VERSION:2.0
PRODID:-//Associated - ECPv6.15.17.1//NONSGML v1.0//EN
CALSCALE:GREGORIAN
METHOD:PUBLISH
X-WR-CALNAME:Associated
X-ORIGINAL-URL:https://associated.org
X-WR-CALDESC:Events for Associated
REFRESH-INTERVAL;VALUE=DURATION:PT1H
X-Robots-Tag:noindex
X-PUBLISHED-TTL:PT1H
BEGIN:VTIMEZONE
TZID:America/New_York
BEGIN:DAYLIGHT
TZOFFSETFROM:-0500
TZOFFSETTO:-0400
TZNAME:EDT
DTSTART:20250309T070000
END:DAYLIGHT
BEGIN:STANDARD
TZOFFSETFROM:-0400
TZOFFSETTO:-0500
TZNAME:EST
DTSTART:20251102T060000
END:STANDARD
BEGIN:DAYLIGHT
TZOFFSETFROM:-0500
TZOFFSETTO:-0400
TZNAME:EDT
DTSTART:20260308T070000
END:DAYLIGHT
BEGIN:STANDARD
TZOFFSETFROM:-0400
TZOFFSETTO:-0500
TZNAME:EST
DTSTART:20261101T060000
END:STANDARD
BEGIN:DAYLIGHT
TZOFFSETFROM:-0500
TZOFFSETTO:-0400
TZNAME:EDT
DTSTART:20270314T070000
END:DAYLIGHT
BEGIN:STANDARD
TZOFFSETFROM:-0400
TZOFFSETTO:-0500
TZNAME:EST
DTSTART:20271107T060000
END:STANDARD
BEGIN:DAYLIGHT
TZOFFSETFROM:-0500
TZOFFSETTO:-0400
TZNAME:EDT
DTSTART:20280312T070000
END:DAYLIGHT
BEGIN:STANDARD
TZOFFSETFROM:-0400
TZOFFSETTO:-0500
TZNAME:EST
DTSTART:20281105T060000
END:STANDARD
END:VTIMEZONE
BEGIN:VEVENT
DTSTART;TZID=America/New_York:20260503T140000
DTEND;TZID=America/New_York:20260503T160000
DTSTAMP:20260422T050258
CREATED:20260421T195855Z
LAST-MODIFIED:20260421T195857Z
UID:10009955-1777816800-1777824000@associated.org
SUMMARY:Cool Grandparents School: Shavuot Edition
DESCRIPTION:Cool Grandparents School: Shavuot Edition\n                        \n                    \n                                         \n                                            \n                  \n              \n\n            \n        \n\n      \n        \n\n\n\n\n\n\n\n\n\n \nA pre-Shavuot gathering just for grandparents \n\n\n \nUp your Shavuot memory-making game at this active learning session designed for grandparents only: \n\n\n \nBaltimore ice cream aficionado and grandparent Bryan Soronson will demonstrate how to host an ice-cream tasting for your family – complete with samples from a range of regional ice cream brands and insider knowledge about the history of ice cream and the influence of Jewish ice cream makers in America. \n\n\n \nRabbi Tyler Dratch of Beth Am Synagogue will explain how dairy foods became a thing for Shavuot and highlight age-appropriate activities beyond ice cream that you can use at home to introduce your grandkids to Shavuot. \n\n\n \nCheck out exhibits and resources in the recently renovated Jewish Museum of Maryland. \n\n\n \nHosted by Lisa Akchin\, The Network’s Intergenerational Multifaith Family Connector \n\n\n \nIn partnership with: Beth Am Synagogue and the Jewish Museum of Maryland \n\n\n\n\n        \n      \n       \n        \n            \n                Upcoming Events\n                \n            \n\n\n            \n\n            						   	\n			                  \n\n			                    \n                           \n			                      \n			                          \n			                      \n			                      \n			                        Mitzvahs and Mimosas: Celebrating Women and Philanthropy \n			                                                      Cost $54 In recognition of your generosity\, you are invited to join us as we celebrate the extraordinary women of the Lion of Judah and […] \n			                      \n                           \n			                    \n\n			                  \n			                \n					   					   	\n			                  \n\n			                    \n                           \n			                      \n			                          \n			                      \n			                      \n			                        YAD Volunteer Collective: Good Deeds Day\n			                                                      Join the Young Adult Division’s Volunteer Collective in partnership with the Jewish Connection Network \, for an afternoon of service at Sarah’s Hope Family Shelter . We’ll spend time […] \n			                      \n                           \n			                    \n\n			                  \n			                \n					   					   	\n			                  \n\n			                    \n                           \n			                      \n			                          \n			                      \n			                      \n			                        Your Vote Matters!\n			                                                      We are delighted to invite you to JWGF’s Final Voting Session for the 2025-2026 grant cycle. This event will determine the allocation of our collective […] \n			                      \n                           \n			                    \n\n			                  \n			                \n					   					   	\n			                  \n\n			                    \n                           \n			                      \n			                          \n			                      \n			                      \n			                        Planned Giving Round Table (PGRT)\n			                                                      Join fellow estate and financial advisors for an engaging session on working effectively with families. Lauren Klein\, Vice President of Funds & Foundations at The […]
URL:https://associated.org/event/cool-grandparents-school-shavuot-edition/
LOCATION:Lloyd Street Synagogue\, 15 Lloyd St\, Baltimore\, Maryland\, 21202\, United States
CATEGORIES:50+,Synagogues,Holidays
ATTACH;FMTTYPE=image/webp:https://associated.org/wp-content/uploads/2026/04/Dairy-for-shavuot.webp
END:VEVENT
BEGIN:VEVENT
DTSTART;TZID=America/New_York:20260504T183000
DTEND;TZID=America/New_York:20260504T203000
DTSTAMP:20260422T050258
CREATED:20260317T195558Z
LAST-MODIFIED:20260317T195559Z
UID:10009910-1777919400-1777926600@associated.org
SUMMARY:Lag Baomer Celebration with the Baltimore Shinshinim
DESCRIPTION:Lag Baomer Celebration with the Baltimore Shinshinim\n                        \n                    \n                                         \n                                           \n                  \n              \n\n            \n        \n\n      \n        \n\n\n\n\n\n\n\n\n\n \nJoin the Baltimore Shinshinim for an outdoor\, Israeli-style\, bonfire celebration with fun games.  \n\n\n \nCost: $7 per person/ $22 per family More information\, including registration coming soon! Location will be shared after registration. \n\n\n\n\n        \n      \n       \n        \n            \n                Upcoming Events\n                \n            \n\n\n            \n\n            						   	\n			                  \n\n			                    \n                           \n			                      \n			                          \n			                      \n			                      \n			                        Mitzvahs and Mimosas: Celebrating Women and Philanthropy \n			                                                      Cost $54 In recognition of your generosity\, you are invited to join us as we celebrate the extraordinary women of the Lion of Judah and […] \n			                      \n                           \n			                    \n\n			                  \n			                \n					   					   	\n			                  \n\n			                    \n                           \n			                      \n			                          \n			                      \n			                      \n			                        YAD Volunteer Collective: Good Deeds Day\n			                                                      Join the Young Adult Division’s Volunteer Collective in partnership with the Jewish Connection Network \, for an afternoon of service at Sarah’s Hope Family Shelter . We’ll spend time […] \n			                      \n                           \n			                    \n\n			                  \n			                \n					   					   	\n			                  \n\n			                    \n                           \n			                      \n			                          \n			                      \n			                      \n			                        Your Vote Matters!\n			                                                      We are delighted to invite you to JWGF’s Final Voting Session for the 2025-2026 grant cycle. This event will determine the allocation of our collective […] \n			                      \n                           \n			                    \n\n			                  \n			                \n					   					   	\n			                  \n\n			                    \n                           \n			                      \n			                          \n			                      \n			                      \n			                        Planned Giving Round Table (PGRT)\n			                                                      Join fellow estate and financial advisors for an engaging session on working effectively with families. Lauren Klein\, Vice President of Funds & Foundations at The […]
URL:https://associated.org/event/lag-baomer-celebration-with-the-baltimore-shinshinim/
LOCATION:Location provided upon registration.
CATEGORIES:Israel & Overseas,Jewish Identity,Families,Holidays
ATTACH;FMTTYPE=image/webp:https://associated.org/wp-content/uploads/2026/02/israeli_flags.webp
END:VEVENT
BEGIN:VEVENT
DTSTART;TZID=America/New_York:20260521T160000
DTEND;TZID=America/New_York:20260524T110000
DTSTAMP:20260422T050258
CREATED:20260204T155227Z
LAST-MODIFIED:20260204T155228Z
UID:10009692-1779379200-1779620400@associated.org
SUMMARY:Shavuot at Pearlstone
DESCRIPTION:Shavuot at Pearlstone\n                        \n                    \n                                         \n                                           \n                  \n              \n\n            \n        \n\n      \n        \n\n\n\n\n\n\n\n\n\n \nJoin us for Shavuot at Pearlstone. This annual immersive retreat is filled with inspiring Jewish learning\, spirited singing\, festive farm-to-table meals\, and a pluralistic community building experience. to come. \n\n\n\n\n        \n      \n       \n        \n            \n                Upcoming Events\n                \n            \n\n\n            \n\n            						   	\n			                  \n\n			                    \n                           \n			                      \n			                          \n			                      \n			                      \n			                        Mitzvahs and Mimosas: Celebrating Women and Philanthropy \n			                                                      Cost $54 In recognition of your generosity\, you are invited to join us as we celebrate the extraordinary women of the Lion of Judah and […] \n			                      \n                           \n			                    \n\n			                  \n			                \n					   					   	\n			                  \n\n			                    \n                           \n			                      \n			                          \n			                      \n			                      \n			                        YAD Volunteer Collective: Good Deeds Day\n			                                                      Join the Young Adult Division’s Volunteer Collective in partnership with the Jewish Connection Network \, for an afternoon of service at Sarah’s Hope Family Shelter . We’ll spend time […] \n			                      \n                           \n			                    \n\n			                  \n			                \n					   					   	\n			                  \n\n			                    \n                           \n			                      \n			                          \n			                      \n			                      \n			                        Your Vote Matters!\n			                                                      We are delighted to invite you to JWGF’s Final Voting Session for the 2025-2026 grant cycle. This event will determine the allocation of our collective […] \n			                      \n                           \n			                    \n\n			                  \n			                \n					   					   	\n			                  \n\n			                    \n                           \n			                      \n			                          \n			                      \n			                      \n			                        Planned Giving Round Table (PGRT)\n			                                                      Join fellow estate and financial advisors for an engaging session on working effectively with families. Lauren Klein\, Vice President of Funds & Foundations at The […]
URL:https://associated.org/event/shavuot-at-pearlstone/
LOCATION:Pearlstone\, 5425 Mt. Gilead Road\, Reisterstown\, Maryland\, 21136\, United States
CATEGORIES:Jewish Identity,Holidays
ATTACH;FMTTYPE=image/jpeg:https://associated.org/wp-content/uploads/2023/02/pearlstone_pond.jpg
ORGANIZER;CN="Pearlstone":MAILTO:eliezah.hoffman@adamah.org
END:VEVENT
BEGIN:VEVENT
DTSTART;TZID=America/New_York:20270201T190000
DTEND;TZID=America/New_York:20270201T210000
DTSTAMP:20260422T050258
CREATED:20251212T142449Z
LAST-MODIFIED:20251212T142450Z
UID:10009326-1801508400-1801515600@associated.org
SUMMARY:Tu B’Shvat Celebration with Pearlstone
DESCRIPTION:Tu B’Shvat Celebration with Pearlstone\n                        \n                    \n                                         \n                                           \n                  \n              \n\n            \n        \n\n      \n        \n\n\n\n\n\n\n\n\n\n \nJoin us for a meaningful evening of fruits\, connection\, music\, and community as we celebrate Tu B’Shvat together! This special gathering will bring together young Jewish adults from the Baltimore area to connect with the fruits of Israel\, with each other\, and with ourselves through the elements of Kabbalah and Jewish mysticism. \n\n\n\n\n        \n      \n       \n        \n            \n                Upcoming Events\n                \n            \n\n\n            \n\n            						   	\n			                  \n\n			                    \n                           \n			                      \n			                          \n			                      \n			                      \n			                        Mitzvahs and Mimosas: Celebrating Women and Philanthropy \n			                                                      Cost $54 In recognition of your generosity\, you are invited to join us as we celebrate the extraordinary women of the Lion of Judah and […] \n			                      \n                           \n			                    \n\n			                  \n			                \n					   					   	\n			                  \n\n			                    \n                           \n			                      \n			                          \n			                      \n			                      \n			                        YAD Volunteer Collective: Good Deeds Day\n			                                                      Join the Young Adult Division’s Volunteer Collective in partnership with the Jewish Connection Network \, for an afternoon of service at Sarah’s Hope Family Shelter . We’ll spend time […] \n			                      \n                           \n			                    \n\n			                  \n			                \n					   					   	\n			                  \n\n			                    \n                           \n			                      \n			                          \n			                      \n			                      \n			                        Your Vote Matters!\n			                                                      We are delighted to invite you to JWGF’s Final Voting Session for the 2025-2026 grant cycle. This event will determine the allocation of our collective […] \n			                      \n                           \n			                    \n\n			                  \n			                \n					   					   	\n			                  \n\n			                    \n                           \n			                      \n			                          \n			                      \n			                      \n			                        Planned Giving Round Table (PGRT)\n			                                                      Join fellow estate and financial advisors for an engaging session on working effectively with families. Lauren Klein\, Vice President of Funds & Foundations at The […]
URL:https://associated.org/event/tu-bshvat-celebration-with-pearlstone/
LOCATION:B’Nai Israel Congregation\, 27 Lloyd Street\, Baltimore\, Maryland\, 21202\, United States
CATEGORIES:20s and 30s,Women,Israel & Overseas,Jewish Identity,Synagogues,Holidays
ATTACH;FMTTYPE=image/jpeg:https://associated.org/wp-content/uploads/2022/03/tree_planting.jpg
END:VEVENT
END:VCALENDAR