BEGIN:VCALENDAR
VERSION:2.0
PRODID:-//Associated - ECPv6.15.17.1//NONSGML v1.0//EN
CALSCALE:GREGORIAN
METHOD:PUBLISH
X-WR-CALNAME:Associated
X-ORIGINAL-URL:https://associated.org
X-WR-CALDESC:Events for Associated
REFRESH-INTERVAL;VALUE=DURATION:PT1H
X-Robots-Tag:noindex
X-PUBLISHED-TTL:PT1H
BEGIN:VTIMEZONE
TZID:America/New_York
BEGIN:DAYLIGHT
TZOFFSETFROM:-0500
TZOFFSETTO:-0400
TZNAME:EDT
DTSTART:20250309T070000
END:DAYLIGHT
BEGIN:STANDARD
TZOFFSETFROM:-0400
TZOFFSETTO:-0500
TZNAME:EST
DTSTART:20251102T060000
END:STANDARD
BEGIN:DAYLIGHT
TZOFFSETFROM:-0500
TZOFFSETTO:-0400
TZNAME:EDT
DTSTART:20260308T070000
END:DAYLIGHT
BEGIN:STANDARD
TZOFFSETFROM:-0400
TZOFFSETTO:-0500
TZNAME:EST
DTSTART:20261101T060000
END:STANDARD
BEGIN:DAYLIGHT
TZOFFSETFROM:-0500
TZOFFSETTO:-0400
TZNAME:EDT
DTSTART:20270314T070000
END:DAYLIGHT
BEGIN:STANDARD
TZOFFSETFROM:-0400
TZOFFSETTO:-0500
TZNAME:EST
DTSTART:20271107T060000
END:STANDARD
END:VTIMEZONE
BEGIN:VEVENT
DTSTART;TZID=America/New_York:20260322T110000
DTEND;TZID=America/New_York:20260322T120000
DTSTAMP:20260422T030803
CREATED:20260127T205613Z
LAST-MODIFIED:20260127T205615Z
UID:10009675-1774177200-1774180800@associated.org
SUMMARY:My Passover Seder: A Tot-Friendly Story Time with Author Claire Freeland
DESCRIPTION:My Passover Seder: A Tot-Friendly Story Time with Author Claire Freeland\n                        \n                    \n                                         \n                                           \n                  \n              \n\n            \n        \n\n      \n        \n\n\n\n\n\n\n\n\n\n \nCelebrate Passover with a warm and welcoming story time designed especially for toddlers\, preschoolers and their families.  \n\n\n \nJoin award-winning children’s author Claire Freeland as she reads My Passover Seder\, a delightful rhyming tale about the sights\, sounds\, smells and customs of the holiday. This engaging book takes young readers on a journey through a typical Passover Seder\, from the arrival of the first guests to the singing of final prayers.  \n\n\n \nAbout the Author: Claire Freeland is the award-winning author of several psychology-based books for children and teens. A career more than three decades’ long as a child psychologist taught her that the stories you tell yourself and others are formative. She believes in the power of words to do good in the world and create joy. Now she has turned to writing Jewish children’s books to create Jewish joy. When she’s not reading or writing\, she’s completing crossword puzzles\, spending time with friends and family\, volunteering in the community and traveling.  \n\n\n \nFree and open to the community. Registration required. \n\n\n\n\n        \n      \n       \n        \n            \n                Upcoming Events\n                \n            \n\n\n            \n\n            						   	\n			                  \n\n			                    \n                           \n			                      \n			                          \n			                      \n			                      \n			                        Mitzvahs and Mimosas: Celebrating Women and Philanthropy \n			                                                      Cost $54 In recognition of your generosity\, you are invited to join us as we celebrate the extraordinary women of the Lion of Judah and […] \n			                      \n                           \n			                    \n\n			                  \n			                \n					   					   	\n			                  \n\n			                    \n                           \n			                      \n			                          \n			                      \n			                      \n			                        YAD Volunteer Collective: Good Deeds Day\n			                                                      Join the Young Adult Division’s Volunteer Collective in partnership with the Jewish Connection Network \, for an afternoon of service at Sarah’s Hope Family Shelter . We’ll spend time […] \n			                      \n                           \n			                    \n\n			                  \n			                \n					   					   	\n			                  \n\n			                    \n                           \n			                      \n			                          \n			                      \n			                      \n			                        Your Vote Matters!\n			                                                      We are delighted to invite you to JWGF’s Final Voting Session for the 2025-2026 grant cycle. This event will determine the allocation of our collective […] \n			                      \n                           \n			                    \n\n			                  \n			                \n					   					   	\n			                  \n\n			                    \n                           \n			                      \n			                          \n			                      \n			                      \n			                        Planned Giving Round Table (PGRT)\n			                                                      Join fellow estate and financial advisors for an engaging session on working effectively with families. Lauren Klein\, Vice President of Funds & Foundations at The […]
URL:https://associated.org/event/my-passover-seder-a-tot-friendly-story-time-with-author-claire-freeland/
LOCATION:The Jewish Library of Baltimore\, 5700 Park Heights Avenue\, Baltimore\, 21215\, United States
CATEGORIES:Families,Arts & Culture,Holidays
ATTACH;FMTTYPE=image/png:https://associated.org/wp-content/uploads/2020/03/Babies-Books-Bagels.png
ORGANIZER;CN="Jewish Library of Baltimore":MAILTO:stusk@jewishlibrarybaltimore.org
END:VEVENT
BEGIN:VEVENT
DTSTART;TZID=America/New_York:20260323T140000
DTEND;TZID=America/New_York:20260323T153000
DTSTAMP:20260422T030803
CREATED:20260304T213420Z
LAST-MODIFIED:20260304T213422Z
UID:10009814-1774274400-1774279800@associated.org
SUMMARY:The Empty Seat at the Table: Coping with Loss During the Holidays
DESCRIPTION:The Empty Seat at the Table: Coping with Loss During the Holidays\n                        \n                    \n                                         \n                                          \n                  \n              \n\n            \n        \n\n      \n        \n\n\n\n\n\n\n\n\n\n \nFamily gatherings can be painful when you have experienced the death of a loved one. Join us for help in finding support and comfort during the holidays. Presented by Jewish Community Services and facilitated by Donna Kane\, MA\, JCS Grief Clinician. Free and open to the community. Registration is requested. Contact Lauren Plotkin at 410-602-0319. \n\n\n\n\n        \n      \n       \n        \n            \n                Upcoming Events\n                \n            \n\n\n            \n\n            						   	\n			                  \n\n			                    \n                           \n			                      \n			                          \n			                      \n			                      \n			                        Mitzvahs and Mimosas: Celebrating Women and Philanthropy \n			                                                      Cost $54 In recognition of your generosity\, you are invited to join us as we celebrate the extraordinary women of the Lion of Judah and […] \n			                      \n                           \n			                    \n\n			                  \n			                \n					   					   	\n			                  \n\n			                    \n                           \n			                      \n			                          \n			                      \n			                      \n			                        YAD Volunteer Collective: Good Deeds Day\n			                                                      Join the Young Adult Division’s Volunteer Collective in partnership with the Jewish Connection Network \, for an afternoon of service at Sarah’s Hope Family Shelter . We’ll spend time […] \n			                      \n                           \n			                    \n\n			                  \n			                \n					   					   	\n			                  \n\n			                    \n                           \n			                      \n			                          \n			                      \n			                      \n			                        Your Vote Matters!\n			                                                      We are delighted to invite you to JWGF’s Final Voting Session for the 2025-2026 grant cycle. This event will determine the allocation of our collective […] \n			                      \n                           \n			                    \n\n			                  \n			                \n					   					   	\n			                  \n\n			                    \n                           \n			                      \n			                          \n			                      \n			                      \n			                        Planned Giving Round Table (PGRT)\n			                                                      Join fellow estate and financial advisors for an engaging session on working effectively with families. Lauren Klein\, Vice President of Funds & Foundations at The […]
URL:https://associated.org/event/the-empty-seat-at-the-table-coping-with-loss-during-the-holidays/
LOCATION:North Oaks Senior Living\, 725 Mount Wilson Lane\, Pikesville\, MD\, 21208\, United States
CATEGORIES:Families,Holidays
ATTACH;FMTTYPE=image/jpeg:https://associated.org/wp-content/uploads/2022/10/holding_hands.jpg
ORGANIZER;CN="Jewish Community Services":MAILTO:info@jcsbaltimore.org
END:VEVENT
BEGIN:VEVENT
DTSTART;TZID=America/New_York:20260326T180000
DTEND;TZID=America/New_York:20260326T200000
DTSTAMP:20260422T030803
CREATED:20260210T205211Z
LAST-MODIFIED:20260210T205212Z
UID:10009704-1774548000-1774555200@associated.org
SUMMARY:Community Inclusive Passover Seder
DESCRIPTION:Community Inclusive Passover Seder\n                        \n                    \n                                         \n                                           \n                  \n              \n\n            \n        \n\n      \n        \n\n\n\n\n\n\n\n\n\n \nPassover is a time to celebrate freedom and remember our ancestors’ journey from Egypt to a new life. We invite teens and adults with disabilities and their families to join an interactive seder featuring songs\, readings\, and shared reflection centered on the story of liberation. Free. Space is limited. RSVP required. \n\n\n\n\n        \n      \n       \n        \n            \n                Upcoming Events\n                \n            \n\n\n            \n\n            						   	\n			                  \n\n			                    \n                           \n			                      \n			                          \n			                      \n			                      \n			                        Mitzvahs and Mimosas: Celebrating Women and Philanthropy \n			                                                      Cost $54 In recognition of your generosity\, you are invited to join us as we celebrate the extraordinary women of the Lion of Judah and […] \n			                      \n                           \n			                    \n\n			                  \n			                \n					   					   	\n			                  \n\n			                    \n                           \n			                      \n			                          \n			                      \n			                      \n			                        YAD Volunteer Collective: Good Deeds Day\n			                                                      Join the Young Adult Division’s Volunteer Collective in partnership with the Jewish Connection Network \, for an afternoon of service at Sarah’s Hope Family Shelter . We’ll spend time […] \n			                      \n                           \n			                    \n\n			                  \n			                \n					   					   	\n			                  \n\n			                    \n                           \n			                      \n			                          \n			                      \n			                      \n			                        Your Vote Matters!\n			                                                      We are delighted to invite you to JWGF’s Final Voting Session for the 2025-2026 grant cycle. This event will determine the allocation of our collective […] \n			                      \n                           \n			                    \n\n			                  \n			                \n					   					   	\n			                  \n\n			                    \n                           \n			                      \n			                          \n			                      \n			                      \n			                        Planned Giving Round Table (PGRT)\n			                                                      Join fellow estate and financial advisors for an engaging session on working effectively with families. Lauren Klein\, Vice President of Funds & Foundations at The […]
URL:https://associated.org/event/community-inclusive-passover-seder/
LOCATION:The Associated’s Pearlstone Boardroom\, 5700 Park Heights Avenue\, Baltimore\, MD\, 21215
CATEGORIES:Jewish Identity,Holidays
ATTACH;FMTTYPE=image/jpeg:https://associated.org/wp-content/uploads/2022/03/seder.jpg
ORGANIZER;CN="Jewish Community Services":MAILTO:info@jcsbaltimore.org
END:VEVENT
BEGIN:VEVENT
DTSTART;TZID=America/New_York:20260326T180000
DTEND;TZID=America/New_York:20260326T203000
DTSTAMP:20260422T030803
CREATED:20260211T211350Z
LAST-MODIFIED:20260211T211351Z
UID:10009716-1774548000-1774557000@associated.org
SUMMARY:Jews of Color\, Indigenous\, Sephardic\, and Mizrahi (JOCISM) Seder
DESCRIPTION:Jews of Color\, Indigenous\, Sephardic\, and Mizrahi (JOCISM) Seder\n                        \n                    \n                                         \n                                          \n                  \n              \n\n            \n        \n\n      \n        \n\n\n\n\n\n\n\n\n\n \nJewish People of Color\, Multiracial\, Multiethnic\, Indigenous\, Sephardic and Mizrahi Jews — along with your loved ones and allies — are invited to Baltimore’s fourth Annual JOCISM Passover Seder\, now at Third Space. This year we are delighted to welcome Ginna Green to co-facilitate with Kohenet Dr. Harriette Wimms. Let’s come together to celebrate\, sing and pray as we revisit the story of Exodus while reflecting on today’s contemporary issues of inclusion\, collective freedom\, racial and economic equity\, and justice. \n\n\n \nDon’t miss this powerful evening of connection and tradition—we can’t wait to celebrate with you! Vegetarian and kosher dinner to follow. \n\n\n \nIn partnership with the Macks Jewish Connection Network \n\n\n \nTickets are free\, donations are suggested \n\n\n\n\n        \n      \n       \n        \n            \n                Upcoming Events\n                \n            \n\n\n            \n\n            						   	\n			                  \n\n			                    \n                           \n			                      \n			                          \n			                      \n			                      \n			                        Mitzvahs and Mimosas: Celebrating Women and Philanthropy \n			                                                      Cost $54 In recognition of your generosity\, you are invited to join us as we celebrate the extraordinary women of the Lion of Judah and […] \n			                      \n                           \n			                    \n\n			                  \n			                \n					   					   	\n			                  \n\n			                    \n                           \n			                      \n			                          \n			                      \n			                      \n			                        YAD Volunteer Collective: Good Deeds Day\n			                                                      Join the Young Adult Division’s Volunteer Collective in partnership with the Jewish Connection Network \, for an afternoon of service at Sarah’s Hope Family Shelter . We’ll spend time […] \n			                      \n                           \n			                    \n\n			                  \n			                \n					   					   	\n			                  \n\n			                    \n                           \n			                      \n			                          \n			                      \n			                      \n			                        Your Vote Matters!\n			                                                      We are delighted to invite you to JWGF’s Final Voting Session for the 2025-2026 grant cycle. This event will determine the allocation of our collective […] \n			                      \n                           \n			                    \n\n			                  \n			                \n					   					   	\n			                  \n\n			                    \n                           \n			                      \n			                          \n			                      \n			                      \n			                        Planned Giving Round Table (PGRT)\n			                                                      Join fellow estate and financial advisors for an engaging session on working effectively with families. Lauren Klein\, Vice President of Funds & Foundations at The […]
URL:https://associated.org/event/jews-of-color-indigenous-sephardic-and-mizrahi-jocism-seder/
LOCATION:Third Space at Shaarei Tfiloh\, 2001 Liberty Heights Ave\, Baltimore\, MD\, 21217
CATEGORIES:Jewish Identity,Holidays
ATTACH;FMTTYPE=image/jpeg:https://associated.org/wp-content/uploads/2022/03/seder.jpg
END:VEVENT
BEGIN:VEVENT
DTSTART;TZID=America/New_York:20260327T100000
DTEND;TZID=America/New_York:20260327T110000
DTSTAMP:20260422T030803
CREATED:20260323T210012Z
LAST-MODIFIED:20260323T210013Z
UID:10009923-1774605600-1774609200@associated.org
SUMMARY:Passover Tot Shabbat Party
DESCRIPTION:Passover Tot Shabbat Party\n                        \n                    \n                                         \n                                          \n                  \n              \n\n            \n        \n\n      \n        \n\n\n\n\n\n\n\n\n\n \nFrogs here\, frogs there… frogs will be jumping everywhere! Please join Morah Lindsay in her Shabbat palace for a Royal Passover Tot Shabbat Party\, including songs\, stories\, a dance party\, and a fun activity! Challah\, grape juice\, and matzah will be served. \n\n\n\n\n        \n      \n       \n        \n            \n                Upcoming Events\n                \n            \n\n\n            \n\n            						   	\n			                  \n\n			                    \n                           \n			                      \n			                          \n			                      \n			                      \n			                        Mitzvahs and Mimosas: Celebrating Women and Philanthropy \n			                                                      Cost $54 In recognition of your generosity\, you are invited to join us as we celebrate the extraordinary women of the Lion of Judah and […] \n			                      \n                           \n			                    \n\n			                  \n			                \n					   					   	\n			                  \n\n			                    \n                           \n			                      \n			                          \n			                      \n			                      \n			                        YAD Volunteer Collective: Good Deeds Day\n			                                                      Join the Young Adult Division’s Volunteer Collective in partnership with the Jewish Connection Network \, for an afternoon of service at Sarah’s Hope Family Shelter . We’ll spend time […] \n			                      \n                           \n			                    \n\n			                  \n			                \n					   					   	\n			                  \n\n			                    \n                           \n			                      \n			                          \n			                      \n			                      \n			                        Your Vote Matters!\n			                                                      We are delighted to invite you to JWGF’s Final Voting Session for the 2025-2026 grant cycle. This event will determine the allocation of our collective […] \n			                      \n                           \n			                    \n\n			                  \n			                \n					   					   	\n			                  \n\n			                    \n                           \n			                      \n			                          \n			                      \n			                      \n			                        Planned Giving Round Table (PGRT)\n			                                                      Join fellow estate and financial advisors for an engaging session on working effectively with families. Lauren Klein\, Vice President of Funds & Foundations at The […]
URL:https://associated.org/event/passover-tot-shabbat-party/
LOCATION:Carroll County Public Library – Finksburg Branch\, 2265 Old Westminster Pike\, Finksburg\, MD\, 21048\, United States
CATEGORIES:Families,Holidays
ATTACH;FMTTYPE=image/jpeg:https://associated.org/wp-content/uploads/2024/02/children-learning-about-shabbat.jpg
END:VEVENT
BEGIN:VEVENT
DTSTART;TZID=America/New_York:20260329T110000
DTEND;TZID=America/New_York:20260329T130000
DTSTAMP:20260422T030803
CREATED:20260317T195912Z
LAST-MODIFIED:20260317T195913Z
UID:10009913-1774782000-1774789200@associated.org
SUMMARY:Baltimore's Annual LGBTQ+ Passover Seder (All Welcome!)
DESCRIPTION:Baltimore’s Annual LGBTQ+ Passover Seder (All Welcome!)\n                        \n                    \n                                         \n                                           \n                  \n              \n\n            \n        \n\n      \n        \n\n\n\n\n\n\n\n\n\n \nJoin the Baltimore LGBTQ+ Jewish community as we celebrate Passover! We welcome members of the LGBTQ+ community to a seder in commemoration of our ancestors crossing the Red Sea and our own journeys to liberation. Share your stories\, celebrate our paths to freedom\, and build a stronger community together.  \n\n\n \nA catered Kosher dairy meal is included with ticket purchase. Vegan and gluten-free meals are available upon request.  \n\n\n \nContact sjacobs@boltonstreet.org for any inquiries. \n\n\n\n\n        \n      \n       \n        \n            \n                Upcoming Events\n                \n            \n\n\n            \n\n            						   	\n			                  \n\n			                    \n                           \n			                      \n			                          \n			                      \n			                      \n			                        Mitzvahs and Mimosas: Celebrating Women and Philanthropy \n			                                                      Cost $54 In recognition of your generosity\, you are invited to join us as we celebrate the extraordinary women of the Lion of Judah and […] \n			                      \n                           \n			                    \n\n			                  \n			                \n					   					   	\n			                  \n\n			                    \n                           \n			                      \n			                          \n			                      \n			                      \n			                        YAD Volunteer Collective: Good Deeds Day\n			                                                      Join the Young Adult Division’s Volunteer Collective in partnership with the Jewish Connection Network \, for an afternoon of service at Sarah’s Hope Family Shelter . We’ll spend time […] \n			                      \n                           \n			                    \n\n			                  \n			                \n					   					   	\n			                  \n\n			                    \n                           \n			                      \n			                          \n			                      \n			                      \n			                        Your Vote Matters!\n			                                                      We are delighted to invite you to JWGF’s Final Voting Session for the 2025-2026 grant cycle. This event will determine the allocation of our collective […] \n			                      \n                           \n			                    \n\n			                  \n			                \n					   					   	\n			                  \n\n			                    \n                           \n			                      \n			                          \n			                      \n			                      \n			                        Planned Giving Round Table (PGRT)\n			                                                      Join fellow estate and financial advisors for an engaging session on working effectively with families. Lauren Klein\, Vice President of Funds & Foundations at The […]
URL:https://associated.org/event/baltimores-annual-lgbtq-passover-seder-all-welcome/
LOCATION:Bolton Street Synagogue\, 212 West Cold Spring Lane\, Baltimore\, Maryland\, 21210\, United States
CATEGORIES:20s and 30s,Women,Jewish Identity,50+,Families,Holidays
ATTACH;FMTTYPE=image/webp:https://associated.org/wp-content/uploads/2026/02/Passover-plate.webp
END:VEVENT
END:VCALENDAR