BEGIN:VCALENDAR
VERSION:2.0
PRODID:-//Associated - ECPv6.15.17.1//NONSGML v1.0//EN
CALSCALE:GREGORIAN
METHOD:PUBLISH
X-WR-CALNAME:Associated
X-ORIGINAL-URL:https://associated.org
X-WR-CALDESC:Events for Associated
REFRESH-INTERVAL;VALUE=DURATION:PT1H
X-Robots-Tag:noindex
X-PUBLISHED-TTL:PT1H
BEGIN:VTIMEZONE
TZID:America/New_York
BEGIN:DAYLIGHT
TZOFFSETFROM:-0500
TZOFFSETTO:-0400
TZNAME:EDT
DTSTART:20260308T070000
END:DAYLIGHT
BEGIN:STANDARD
TZOFFSETFROM:-0400
TZOFFSETTO:-0500
TZNAME:EST
DTSTART:20261101T060000
END:STANDARD
BEGIN:DAYLIGHT
TZOFFSETFROM:-0500
TZOFFSETTO:-0400
TZNAME:EDT
DTSTART:20270314T070000
END:DAYLIGHT
BEGIN:STANDARD
TZOFFSETFROM:-0400
TZOFFSETTO:-0500
TZNAME:EST
DTSTART:20271107T060000
END:STANDARD
BEGIN:DAYLIGHT
TZOFFSETFROM:-0500
TZOFFSETTO:-0400
TZNAME:EDT
DTSTART:20280312T070000
END:DAYLIGHT
BEGIN:STANDARD
TZOFFSETFROM:-0400
TZOFFSETTO:-0500
TZNAME:EST
DTSTART:20281105T060000
END:STANDARD
END:VTIMEZONE
BEGIN:VEVENT
DTSTART;TZID=America/New_York:20270104T180000
DTEND;TZID=America/New_York:20270104T193000
DTSTAMP:20260419T222406
CREATED:20251230T152801Z
LAST-MODIFIED:20251230T153005Z
UID:10009377-1799085600-1799091000@associated.org
SUMMARY:Kvetch! Kosher Comedy
DESCRIPTION:Kvetch! Kosher Comedy\n                        \n                    \n                                         \n                                           \n                  \n              \n\n            \n        \n\n      \n        \n\n\n\n\n\n\n\n\n\n \nAn Orthodox American woman. A secular Israeli man. She has five kids. He is raising his wife. Her English is perfect. He speaks Falafel. Carmiya Weinraub and Erik Angel present an hysterical night of clean\, kosher comedy that will make your life better. \n\n\n \nKvetch Kosher Comedy highlights diversity in the Jewish community through laughter. This 75-minute show stars Erik Angel (Secular Israeli New Yorker\, seen at Comic Strip NYC & the West Side Comedy Club) & Carmiya Weinraub (Modern Orthodox\, seen at Standup NY and DC Comedy Loft). This show is PG\, but is designed for adults\, and does not encourage particular observance\, or domestic or international political opinions. Kvetch is good for the Jews! \n\n\n \nNo age restriction \n\n\n\n\n        \n      \n       \n        \n            \n                Upcoming Events\n                \n            \n\n\n            \n\n            						   	\n			                  \n\n			                    \n                           \n			                      \n			                          \n			                      \n			                      \n			                        Mitzvahs and Mimosas: Celebrating Women and Philanthropy \n			                                                      Cost $54 In recognition of your generosity\, you are invited to join us as we celebrate the extraordinary women of the Lion of Judah and […] \n			                      \n                           \n			                    \n\n			                  \n			                \n					   					   	\n			                  \n\n			                    \n                           \n			                      \n			                          \n			                      \n			                      \n			                        YAD Volunteer Collective: Good Deeds Day\n			                                                      Join the Young Adult Division’s Volunteer Collective in partnership with the Jewish Connection Network \, for an afternoon of service at Sarah’s Hope Family Shelter . We’ll spend time […] \n			                      \n                           \n			                    \n\n			                  \n			                \n					   					   	\n			                  \n\n			                    \n                           \n			                      \n			                          \n			                      \n			                      \n			                        Your Vote Matters!\n			                                                      We are delighted to invite you to JWGF’s Final Voting Session for the 2025-2026 grant cycle. This event will determine the allocation of our collective […] \n			                      \n                           \n			                    \n\n			                  \n			                \n					   					   	\n			                  \n\n			                    \n                           \n			                      \n			                          \n			                      \n			                      \n			                        Planned Giving Round Table (PGRT)\n			                                                      Join fellow estate and financial advisors for an engaging session on working effectively with families. Lauren Klein\, Vice President of Funds & Foundations at The […]
URL:https://associated.org/event/kvetch-kosher-comedy/
LOCATION:The Katz at Moses Montefiore Anshe Emunah\, 7000 Rockland Hills Drive
CATEGORIES:Synagogues,Israel & Overseas,Jewish Identity,50+,Arts & Culture
ATTACH;FMTTYPE=image/jpeg:https://associated.org/wp-content/uploads/2023/04/Microphone-on-stage.jpg
END:VEVENT
END:VCALENDAR