BEGIN:VCALENDAR
VERSION:2.0
PRODID:-//Associated - ECPv6.15.17.1//NONSGML v1.0//EN
CALSCALE:GREGORIAN
METHOD:PUBLISH
X-ORIGINAL-URL:https://associated.org
X-WR-CALDESC:Events for Associated
REFRESH-INTERVAL;VALUE=DURATION:PT1H
X-Robots-Tag:noindex
X-PUBLISHED-TTL:PT1H
BEGIN:VTIMEZONE
TZID:America/New_York
BEGIN:DAYLIGHT
TZOFFSETFROM:-0500
TZOFFSETTO:-0400
TZNAME:EDT
DTSTART:20250309T070000
END:DAYLIGHT
BEGIN:STANDARD
TZOFFSETFROM:-0400
TZOFFSETTO:-0500
TZNAME:EST
DTSTART:20251102T060000
END:STANDARD
BEGIN:DAYLIGHT
TZOFFSETFROM:-0500
TZOFFSETTO:-0400
TZNAME:EDT
DTSTART:20260308T070000
END:DAYLIGHT
BEGIN:STANDARD
TZOFFSETFROM:-0400
TZOFFSETTO:-0500
TZNAME:EST
DTSTART:20261101T060000
END:STANDARD
BEGIN:DAYLIGHT
TZOFFSETFROM:-0500
TZOFFSETTO:-0400
TZNAME:EDT
DTSTART:20270314T070000
END:DAYLIGHT
BEGIN:STANDARD
TZOFFSETFROM:-0400
TZOFFSETTO:-0500
TZNAME:EST
DTSTART:20271107T060000
END:STANDARD
END:VTIMEZONE
BEGIN:VEVENT
DTSTART;TZID=America/New_York:20260324T173000
DTEND;TZID=America/New_York:20260324T203000
DTSTAMP:20260419T085215
CREATED:20260306T153637Z
LAST-MODIFIED:20260306T153638Z
UID:10009884-1774373400-1774384200@associated.org
SUMMARY:Labors of Love
DESCRIPTION:Labors of Love\n                        \n                    \n                                         \n                                           \n                  \n              \n\n            \n        \n\n      \n        \n\n\n\n\n\n\n\n\n\n \nA visionary leader and one of history’s most influential\, yet under-recognized\, American Jewish women\, Henrietta Szold left an indelible mark on the 20th century. \n\n\n \nThis heartfelt documentary\, directed by Peabody award-winner\, Abby Ginzberg and winner of the Audience Award for Best Documentary at the SF Jewish Film Festival\, brings long-overdue recognition to Szold\, a daughter of Baltimore\, a graduate of Western high school\, and the creator of Baltimore’s Russian Night School. The film offers a thought-provoking look at a woman who reshaped history through compassion and an unwavering belief in the power of humanity. \n\n\n \nA post screening discussion with director\, Abby Ginzberg and Sally Levin\, Henrietta’s grand-niece\, will be moderated by Barry Kessler\, the curator of the Jewish Museum of Maryland’s Henrietta Szold exhibit. \n\n\n\n\n        \n      \n       \n        \n            \n                Upcoming Events\n                \n            \n\n\n            \n\n            						   	\n			                  \n\n			                    \n                           \n			                      \n			                          \n			                      \n			                      \n			                        SpringFest on the Goldsmith Campus \n			                                                      Join all the agencies across The Associated Network for an all-ages celebration with fitness classes\, hands-on activities\, a live DJ and more. \n			                      \n                           \n			                    \n\n			                  \n			                \n					   					   	\n			                  \n\n			                    \n                           \n			                      \n			                          \n			                      \n			                      \n			                        Partners Baltimore April\n			                                                      Looking to meet new people and strengthen connections across Baltimore’s Jewish community? At Partners Baltimore\, you’ll be paired with someone from a different Jewish background […] \n			                      \n                           \n			                    \n\n			                  \n			                \n					   					   	\n			                  \n\n			                    \n                           \n			                      \n			                          \n			                      \n			                      \n			                        Mitzvahs and Mimosas: Celebrating Women and Philanthropy \n			                                                      Cost $54 In recognition of your generosity\, you are invited to join us as we celebrate the extraordinary women of the Lion of Judah and […] \n			                      \n                           \n			                    \n\n			                  \n			                \n					   					   	\n			                  \n\n			                    \n                           \n			                      \n			                          \n			                      \n			                      \n			                        YAD Volunteer Collective: Good Deeds Day\n			                                                      Join the Young Adult Division’s Volunteer Collective in partnership with the Jewish Connection Network \, for an afternoon of service at Sarah’s Hope Family Shelter . We’ll spend time […]
URL:https://associated.org/event/labors-of-love-2/
LOCATION:The Gordon Center for Performing Arts\, 3506 Gwynnbrook Ave.\, Owings Mills\, MD\, 21117\, United States
CATEGORIES:20s and 30s,Women,Professionals,Jewish Identity,50+,Arts & Culture
ATTACH;FMTTYPE=image/jpeg:https://associated.org/wp-content/uploads/2019/12/GettyImages-1007557230-scaled.jpg
END:VEVENT
END:VCALENDAR